BEGIN:VCALENDAR
VERSION:2.0
PRODID:-//NYC REACH - ECPv5.16.2//NONSGML v1.0//EN
CALSCALE:GREGORIAN
METHOD:PUBLISH
X-WR-CALNAME:NYC REACH
X-ORIGINAL-URL:https://nycreach.org
X-WR-CALDESC:Events for NYC REACH
REFRESH-INTERVAL;VALUE=DURATION:PT1H
X-Robots-Tag:noindex
X-PUBLISHED-TTL:PT1H
BEGIN:VTIMEZONE
TZID:America/New_York
BEGIN:DAYLIGHT
TZOFFSETFROM:-0500
TZOFFSETTO:-0400
TZNAME:EDT
DTSTART:20210314T070000
END:DAYLIGHT
BEGIN:STANDARD
TZOFFSETFROM:-0400
TZOFFSETTO:-0500
TZNAME:EST
DTSTART:20211107T060000
END:STANDARD
BEGIN:DAYLIGHT
TZOFFSETFROM:-0500
TZOFFSETTO:-0400
TZNAME:EDT
DTSTART:20220313T070000
END:DAYLIGHT
BEGIN:STANDARD
TZOFFSETFROM:-0400
TZOFFSETTO:-0500
TZNAME:EST
DTSTART:20221106T060000
END:STANDARD
END:VTIMEZONE
BEGIN:VEVENT
DTSTART;TZID=America/New_York:20221121T150000
DTEND;TZID=America/New_York:20221121T150000
DTSTAMP:20260423T002815
CREATED:20221019T134624Z
LAST-MODIFIED:20221019T134815Z
UID:21287-1669042800-1669042800@nycreach.org
SUMMARY:NowPow Training
DESCRIPTION:This 1 ½ hour interactive training will provide an overview of the platform and highlight the Services and eRX tools. \n\n\n\nYou must have a NowPow user ID and password before joining the training. \n\n\n\nAudio and visual access to participate is required.
URL:https://nycreach.org/events/nowpow-training-4/
END:VEVENT
BEGIN:VEVENT
DTSTART;TZID=America/New_York:20221117T090000
DTEND;TZID=America/New_York:20221117T090000
DTSTAMP:20260423T002815
CREATED:20221019T135658Z
LAST-MODIFIED:20221019T135703Z
UID:21293-1668675600-1668675600@nycreach.org
SUMMARY:New York State Patient-Centered Medical Home Sustainability Workshop
DESCRIPTION:Join NYC REACH for a free NYS PCMH Sustainability Workshop to learn best practices for maintaining PCMH operations\, how to align PCMH with other programs\, and how to maintain PCMH Recognition. It is important for practices to maintain PCMH operations year-round\, as NYS PCMH Recognition must be renewed annually.
URL:https://nycreach.org/events/new-york-state-patient-centered-medical-home-sustainability-workshop-8/
END:VEVENT
BEGIN:VEVENT
DTSTART;TZID=America/New_York:20221101T090000
DTEND;TZID=America/New_York:20221101T090000
DTSTAMP:20260423T002815
CREATED:20221019T135242Z
LAST-MODIFIED:20221019T135247Z
UID:21291-1667293200-1667293200@nycreach.org
SUMMARY:New York State Patient-Centered Medical Home Sustainability Workshop
DESCRIPTION:Join NYC REACH for a free NYS PCMH Sustainability Workshop to learn best practices for maintaining PCMH operations\, how to align PCMH with other programs\, and how to maintain PCMH Recognition. It is important for practices to maintain PCMH operations year-round\, as NYS PCMH Recognition must be renewed annually.
URL:https://nycreach.org/events/new-york-state-patient-centered-medical-home-sustainability-workshop-7/
END:VEVENT
BEGIN:VEVENT
DTSTART;TZID=America/New_York:20221027T090000
DTEND;TZID=America/New_York:20221027T090000
DTSTAMP:20260423T002815
CREATED:20221017T204252Z
LAST-MODIFIED:20221017T204257Z
UID:21284-1666861200-1666861200@nycreach.org
SUMMARY:eCW Training: Patient Portal and Questionnaires 
DESCRIPTION:
URL:https://nycreach.org/events/ecw-training-patient-portal-and-questionnaires/
END:VEVENT
BEGIN:VEVENT
DTSTART;TZID=America/New_York:20221026T150000
DTEND;TZID=America/New_York:20221026T150000
DTSTAMP:20260423T002815
CREATED:20220921T140304Z
LAST-MODIFIED:20220921T140310Z
UID:21205-1666796400-1666796400@nycreach.org
SUMMARY:NowPow Training
DESCRIPTION:
URL:https://nycreach.org/events/nowpow-training-3/
END:VEVENT
BEGIN:VEVENT
DTSTART;TZID=America/New_York:20221021T100000
DTEND;TZID=America/New_York:20221021T100000
DTSTAMP:20260423T002815
CREATED:20220921T140614Z
LAST-MODIFIED:20220921T140619Z
UID:21209-1666346400-1666346400@nycreach.org
SUMMARY:eCW Training: Progress Notes/Templates
DESCRIPTION:
URL:https://nycreach.org/events/ecw-training-progress-notes-templates/
END:VEVENT
BEGIN:VEVENT
DTSTART;TZID=America/New_York:20221020T090000
DTEND;TZID=America/New_York:20221020T090000
DTSTAMP:20260423T002815
CREATED:20220921T135918Z
LAST-MODIFIED:20220921T135923Z
UID:21201-1666256400-1666256400@nycreach.org
SUMMARY:New York State Patient-Centered Medical Home Sustainability Workshop
DESCRIPTION:
URL:https://nycreach.org/events/new-york-state-patient-centered-medical-home-sustainability-workshop-6/
END:VEVENT
BEGIN:VEVENT
DTSTART;TZID=America/New_York:20221013T100000
DTEND;TZID=America/New_York:20221013T100000
DTSTAMP:20260423T002815
CREATED:20220921T140428Z
LAST-MODIFIED:20220921T140433Z
UID:21207-1665655200-1665655200@nycreach.org
SUMMARY:eCW Training: Quality Improvement
DESCRIPTION:
URL:https://nycreach.org/events/ecw-training-quality-improvement/
END:VEVENT
BEGIN:VEVENT
DTSTART;TZID=America/New_York:20221007T100000
DTEND;TZID=America/New_York:20221007T100000
DTSTAMP:20260423T002815
CREATED:20220921T140051Z
LAST-MODIFIED:20220921T140057Z
UID:21203-1665136800-1665136800@nycreach.org
SUMMARY:eCW Training: Clinical Essentials
DESCRIPTION:
URL:https://nycreach.org/events/ecw-training-clinical-essentials/
END:VEVENT
BEGIN:VEVENT
DTSTART;TZID=America/New_York:20221004T090000
DTEND;TZID=America/New_York:20221004T090000
DTSTAMP:20260423T002815
CREATED:20220921T135611Z
LAST-MODIFIED:20220921T135611Z
UID:21195-1664874000-1664874000@nycreach.org
SUMMARY:New York State Patient-Centered Medical Home Sustainability Workshop
DESCRIPTION:
URL:https://nycreach.org/events/new-york-state-patient-centered-medical-home-sustainability-workshop-5/
END:VEVENT
BEGIN:VEVENT
DTSTART;TZID=America/New_York:20220906T090000
DTEND;TZID=America/New_York:20220906T090000
DTSTAMP:20260423T002815
CREATED:20220830T183714Z
LAST-MODIFIED:20220830T183720Z
UID:21150-1662454800-1662454800@nycreach.org
SUMMARY:New York State Patient-Centered Medical Home Sustainability Workshop
DESCRIPTION:
URL:https://nycreach.org/events/new-york-state-patient-centered-medical-home-sustainability-workshop-4/
END:VEVENT
BEGIN:VEVENT
DTSTART;TZID=America/New_York:20220824T150000
DTEND;TZID=America/New_York:20220824T150000
DTSTAMP:20260423T002815
CREATED:20220802T010301Z
LAST-MODIFIED:20220802T010307Z
UID:21076-1661353200-1661353200@nycreach.org
SUMMARY:NowPow Training
DESCRIPTION:
URL:https://nycreach.org/events/nowpow-training-2/
END:VEVENT
BEGIN:VEVENT
DTSTART;TZID=America/New_York:20220818T090000
DTEND;TZID=America/New_York:20220818T090000
DTSTAMP:20260423T002815
CREATED:20220802T005959Z
LAST-MODIFIED:20220802T010004Z
UID:21070-1660813200-1660813200@nycreach.org
SUMMARY:New York State Patient-Centered Medical Home Sustainability Workshop
DESCRIPTION:
URL:https://nycreach.org/events/new-york-state-patient-centered-medical-home-sustainability-workshop-3/
END:VEVENT
BEGIN:VEVENT
DTSTART;TZID=America/New_York:20220812T113000
DTEND;TZID=America/New_York:20220812T113000
DTSTAMP:20260423T002815
CREATED:20220802T010058Z
LAST-MODIFIED:20220802T010104Z
UID:21072-1660303800-1660303800@nycreach.org
SUMMARY:QPASS Live Training
DESCRIPTION:
URL:https://nycreach.org/events/qpass-live-training/
END:VEVENT
BEGIN:VEVENT
DTSTART;TZID=America/New_York:20220810T150000
DTEND;TZID=America/New_York:20220810T150000
DTSTAMP:20260423T002815
CREATED:20220802T010158Z
LAST-MODIFIED:20220802T010204Z
UID:21074-1660143600-1660143600@nycreach.org
SUMMARY:NowPow Training
DESCRIPTION:
URL:https://nycreach.org/events/nowpow-training/
END:VEVENT
BEGIN:VEVENT
DTSTART;TZID=America/New_York:20220802T090000
DTEND;TZID=America/New_York:20220802T090000
DTSTAMP:20260423T002815
CREATED:20220802T005902Z
LAST-MODIFIED:20220802T005907Z
UID:21068-1659430800-1659430800@nycreach.org
SUMMARY:New York State Patient-Centered Medical Home Sustainability Workshop
DESCRIPTION:
URL:https://nycreach.org/events/new-york-state-patient-centered-medical-home-sustainability-workshop-2/
END:VEVENT
BEGIN:VEVENT
DTSTART;TZID=America/New_York:20220721T090000
DTEND;TZID=America/New_York:20220721T090000
DTSTAMP:20260423T002815
CREATED:20220712T234047Z
LAST-MODIFIED:20220712T234053Z
UID:21024-1658394000-1658394000@nycreach.org
SUMMARY:New York State Patient-Centered Medical Home Sustainability Workshop
DESCRIPTION:
URL:https://nycreach.org/events/new-york-state-patient-centered-medical-home-sustainability-workshop/
END:VEVENT
BEGIN:VEVENT
DTSTART;TZID=America/New_York:20220714T120000
DTEND;TZID=America/New_York:20220714T120000
DTSTAMP:20260423T002815
CREATED:20220712T233959Z
LAST-MODIFIED:20220712T234005Z
UID:21022-1657800000-1657800000@nycreach.org
SUMMARY:Addressing Tobacco\, E-cigarette & Alternative Product Use with Young Adults
DESCRIPTION:
URL:https://nycreach.org/events/addressing-tobacco-e-cigarette-alternative-product-use-with-young-adults/
END:VEVENT
BEGIN:VEVENT
DTSTART;TZID=America/New_York:20220713T150000
DTEND;TZID=America/New_York:20220713T150000
DTSTAMP:20260423T002815
CREATED:20220712T233843Z
LAST-MODIFIED:20220712T233848Z
UID:21020-1657724400-1657724400@nycreach.org
SUMMARY:NowPow Orientación Training in Spanish
DESCRIPTION:
URL:https://nycreach.org/events/nowpow-orientacion-training-in-spanish/
END:VEVENT
BEGIN:VEVENT
DTSTART;TZID=America/New_York:20220628T120000
DTEND;TZID=America/New_York:20220628T133000
DTSTAMP:20260423T002815
CREATED:20220602T170134Z
LAST-MODIFIED:20220602T170141Z
UID:20960-1656417600-1656423000@nycreach.org
SUMMARY:Behavioral Health Parity 101
DESCRIPTION:For anyone interested in learning about behavioral health parity.
URL:https://nycreach.org/events/behavioral-health-parity-101/
END:VEVENT
BEGIN:VEVENT
DTSTART;TZID=America/New_York:20220623T100000
DTEND;TZID=America/New_York:20220623T100000
DTSTAMP:20260423T002815
CREATED:20220602T170553Z
LAST-MODIFIED:20220602T170600Z
UID:20967-1655978400-1655978400@nycreach.org
SUMMARY:eCW Training: Quality Measures in eClinicalWorks
DESCRIPTION:
URL:https://nycreach.org/events/ecw-training-quality-measures-in-eclinicalworks/
END:VEVENT
BEGIN:VEVENT
DTSTART;TZID=America/New_York:20220616T100000
DTEND;TZID=America/New_York:20220616T100000
DTSTAMP:20260423T002815
CREATED:20220602T170502Z
LAST-MODIFIED:20220602T170508Z
UID:20965-1655373600-1655373600@nycreach.org
SUMMARY:eCW Training: Medication Adherence in eClinicalWorks
DESCRIPTION:
URL:https://nycreach.org/events/ecw-training-medication-adherence-in-eclinicalworks/
END:VEVENT
BEGIN:VEVENT
DTSTART;TZID=America/New_York:20220615T120000
DTEND;TZID=America/New_York:20220615T133000
DTSTAMP:20260423T002815
CREATED:20220602T165953Z
LAST-MODIFIED:20220602T170239Z
UID:20958-1655294400-1655299800@nycreach.org
SUMMARY:Behavioral Health Parity for Service Providers
DESCRIPTION:For providers in health\, behavioral health or social services who are interested in learning how to help clients. Continuing Education (CE) credits are available to satisfy CASAC renewal and CPP/CPS credentialing requirements for OASAS service providers.
URL:https://nycreach.org/events/behavioral-health-parity-for-service-providers-2/
END:VEVENT
BEGIN:VEVENT
DTSTART;TZID=America/New_York:20220614T120000
DTEND;TZID=America/New_York:20220614T133000
DTSTAMP:20260423T002815
CREATED:20220602T165800Z
LAST-MODIFIED:20220602T165805Z
UID:20955-1655208000-1655213400@nycreach.org
SUMMARY:Behavioral Health Parity for Service Providers
DESCRIPTION:For providers in health\, behavioral health or social services who are interested in learning how to help clients. Continuing Education (CE) credits are available to satisfy CASAC renewal and CPP/CPS credentialing requirements for OASAS service providers.
URL:https://nycreach.org/events/behavioral-health-parity-for-service-providers/
END:VEVENT
BEGIN:VEVENT
DTSTART;TZID=America/New_York:20220609T100000
DTEND;TZID=America/New_York:20220609T100000
DTSTAMP:20260423T002815
CREATED:20220602T170414Z
LAST-MODIFIED:20220602T170419Z
UID:20963-1654768800-1654768800@nycreach.org
SUMMARY:eCW Training: Progress Notes & Templates in eClinicalWorks
DESCRIPTION:
URL:https://nycreach.org/events/ecw-training-progress-notes-templates-in-eclinicalworks/
END:VEVENT
BEGIN:VEVENT
DTSTART;TZID=America/New_York:20210728T100000
DTEND;TZID=America/New_York:20210728T100000
DTSTAMP:20260423T002815
CREATED:20210319T154820Z
LAST-MODIFIED:20210423T160704Z
UID:20195-1627466400-1627466400@nycreach.org
SUMMARY:National DPP Lifestyle Coach Training Module 4
DESCRIPTION:National Diabetes Prevention Program Lifstyle Coach Training.
URL:https://nycreach.org/events/national-dpp-lifestyle-coach-training-module-4/
CATEGORIES:Registration opening soon
END:VEVENT
BEGIN:VEVENT
DTSTART;TZID=America/New_York:20210727T100000
DTEND;TZID=America/New_York:20210727T100000
DTSTAMP:20260423T002816
CREATED:20210319T154819Z
LAST-MODIFIED:20210423T160759Z
UID:20194-1627380000-1627380000@nycreach.org
SUMMARY:National DPP Lifestyle Coach Training Module 3
DESCRIPTION:National Diabetes Prevention Program Lifstyle Coach Training.
URL:https://nycreach.org/events/national-dpp-lifestyle-coach-training-module-3/
CATEGORIES:Registration opening soon
END:VEVENT
BEGIN:VEVENT
DTSTART;TZID=America/New_York:20210721T100000
DTEND;TZID=America/New_York:20210721T100000
DTSTAMP:20260423T002816
CREATED:20210319T154819Z
LAST-MODIFIED:20210423T160905Z
UID:20193-1626861600-1626861600@nycreach.org
SUMMARY:National DPP Lifestyle Coach Training Module 2
DESCRIPTION:National Diabetes Prevention Program Lifstyle Coach Training.
URL:https://nycreach.org/events/national-dpp-lifestyle-coach-training-module-2/
CATEGORIES:Registration opening soon
END:VEVENT
BEGIN:VEVENT
DTSTART;TZID=America/New_York:20210720T100000
DTEND;TZID=America/New_York:20210720T100000
DTSTAMP:20260423T002816
CREATED:20210319T154818Z
LAST-MODIFIED:20210423T160957Z
UID:20192-1626775200-1626775200@nycreach.org
SUMMARY:National DPP Lifestyle Coach Training Module 1
DESCRIPTION:National Diabetes Prevention Program Lifstyle Coach Training.
URL:https://nycreach.org/events/national-dpp-lifestyle-coach-training-module-1/
CATEGORIES:Registration opening soon
END:VEVENT
BEGIN:VEVENT
DTSTART;TZID=America/New_York:20210713T100000
DTEND;TZID=America/New_York:20210713T100000
DTSTAMP:20260423T002816
CREATED:20210319T154804Z
LAST-MODIFIED:20210423T161047Z
UID:20191-1626170400-1626170400@nycreach.org
SUMMARY:National DPP Lifestyle Coach Training Module 0
DESCRIPTION:National Diabetes Prevention Program Lifstyle Coach Training. 
URL:https://nycreach.org/events/national-dpp-lifestyle-coach-training-module-0/
CATEGORIES:Registration opening soon
END:VEVENT
END:VCALENDAR